BEGIN:VCALENDAR
VERSION:2.0
PRODID:-//Obuda.hu - ECPv6.11.2//NONSGML v1.0//EN
CALSCALE:GREGORIAN
METHOD:PUBLISH
X-WR-CALNAME:Obuda.hu
X-ORIGINAL-URL:https://obuda.hu
X-WR-CALDESC:Events for Obuda.hu
REFRESH-INTERVAL;VALUE=DURATION:PT1H
X-Robots-Tag:noindex
X-PUBLISHED-TTL:PT1H
BEGIN:VTIMEZONE
TZID:Europe/Budapest
BEGIN:DAYLIGHT
TZOFFSETFROM:+0100
TZOFFSETTO:+0200
TZNAME:CEST
DTSTART:20250330T010000
END:DAYLIGHT
BEGIN:STANDARD
TZOFFSETFROM:+0200
TZOFFSETTO:+0100
TZNAME:CET
DTSTART:20251026T010000
END:STANDARD
END:VTIMEZONE
BEGIN:VEVENT
DTSTART;TZID=Europe/Budapest:20251220T140000
DTEND;TZID=Europe/Budapest:20251220T170000
DTSTAMP:20260425T125326
CREATED:20251119T231218Z
LAST-MODIFIED:20251119T231218Z
UID:62769-1766239200-1766250000@obuda.hu
SUMMARY:Ünnepre hangolódva: karácsonyi ajándék készítés
DESCRIPTION:DECEMBER 20.  \nSZOMBAT\, 14:00-17:00 \n  \nHelyszín: Szindbád Rendezvényterem \n  \nA karácsonyi kézműves foglalkozás remek módja annak\, hogy ünnepi hangulatba kerüljünk\, kreatívan kikapcsolódjunk és saját készítésű ajándékokat készítsünk együtt! Tartsatok velünk\, hogy az ünnepre hangolódva ajándékot készítsünk: különböző alakú és formájú gyertyákat dekorálunk\, kompozíciókat készítünk\, kanócozunk és csomagolunk.  \n  \nA foglalkozás ingyenes és előzetes regisztrációhoz nem kötött. Foglalkozásvezető: Szilágyiné Pápai Anna
URL:https://obuda.hu/esemeny/unnepre-hangolodva-karacsonyi-ajandek-keszites/
LOCATION:Esernyős\, Szindbád Rendezvényterem\, Fő tér 2.\, Budapest\, 1033\, Magyarország
ATTACH;FMTTYPE=image/jpeg:https://obuda.hu/wp-content/uploads/2025/11/Facebook_esemeny_12_20_-12_20_KARACSONYI-AJANDEK-KESZITES_-jpg.webp
ORGANIZER;CN="Eserny%C5%91s %C3%93budai Kultur%C3%A1lis %C3%A9s Sport Nonprofit Kft.":MAILTO:info@esernyos.hu
END:VEVENT
END:VCALENDAR