BEGIN:VCALENDAR
VERSION:2.0
PRODID:-//Obuda.hu - ECPv6.11.2//NONSGML v1.0//EN
CALSCALE:GREGORIAN
METHOD:PUBLISH
X-WR-CALNAME:Obuda.hu
X-ORIGINAL-URL:https://obuda.hu
X-WR-CALDESC:Events for Obuda.hu
REFRESH-INTERVAL;VALUE=DURATION:PT1H
X-Robots-Tag:noindex
X-PUBLISHED-TTL:PT1H
BEGIN:VTIMEZONE
TZID:Europe/Budapest
BEGIN:DAYLIGHT
TZOFFSETFROM:+0100
TZOFFSETTO:+0200
TZNAME:CEST
DTSTART:20250330T010000
END:DAYLIGHT
BEGIN:STANDARD
TZOFFSETFROM:+0200
TZOFFSETTO:+0100
TZNAME:CET
DTSTART:20251026T010000
END:STANDARD
END:VTIMEZONE
BEGIN:VEVENT
DTSTART;TZID=Europe/Budapest:20251129T090000
DTEND;TZID=Europe/Budapest:20251129T190000
DTSTAMP:20260425T163759
CREATED:20251019T195057Z
LAST-MODIFIED:20251019T195104Z
UID:61465-1764406800-1764442800@obuda.hu
SUMMARY:Varró workshopok – Adventi készülődés kicsiknek és nagyoknak
DESCRIPTION:Ha szeretsz varrni\, vagy szeretnél varrni tanulni\, akkor látogass el a Kreátor Varróműhely hétvégi varró programjaira\, workshopjaira. Kisiskolás kortól\, teljesen kezdő szinttől\, akár családi programként.a kreatorvarromuhely@gmail.com e-mail címen. A programváltozás joga fennáll.\nA részletes tematikáról a program vezetőjétől (Kiss Mihók Erzsébet Liza) kérhető információ a fenti címen\, illetve a 06-30/992-3609 számon.\nTovábbi elérhetőség: Facebook: Kreátor Varróműhely\, és a Liza Kreatív Alkotó- és Varróműhelye\, oldalakon\, valamint a  www.kreatorvarromuhely.hu \nA programokra a limitált létszám miatt előzetesen be kell jelentkezni
URL:https://obuda.hu/esemeny/varro-workshopok-adventi-keszulodes-kicsiknek-es-nagyoknak/
LOCATION:Csillaghegyi Közösségi Ház\, Mátyás király út 11-15.\, Budapest\, 1033
ATTACH;FMTTYPE=image/jpeg:https://obuda.hu/wp-content/uploads/2025/10/tn_2700_Varro_workshopok-jpg.webp
END:VEVENT
END:VCALENDAR