BEGIN:VCALENDAR
VERSION:2.0
PRODID:-//Obuda.hu - ECPv6.11.2//NONSGML v1.0//EN
CALSCALE:GREGORIAN
METHOD:PUBLISH
X-WR-CALNAME:Obuda.hu
X-ORIGINAL-URL:https://obuda.hu
X-WR-CALDESC:Events for Obuda.hu
REFRESH-INTERVAL;VALUE=DURATION:PT1H
X-Robots-Tag:noindex
X-PUBLISHED-TTL:PT1H
BEGIN:VTIMEZONE
TZID:Europe/Budapest
BEGIN:DAYLIGHT
TZOFFSETFROM:+0100
TZOFFSETTO:+0200
TZNAME:CEST
DTSTART:20250330T010000
END:DAYLIGHT
BEGIN:STANDARD
TZOFFSETFROM:+0200
TZOFFSETTO:+0100
TZNAME:CET
DTSTART:20251026T010000
END:STANDARD
END:VTIMEZONE
BEGIN:VEVENT
DTSTART;TZID=Europe/Budapest:20250711T203000
DTEND;TZID=Europe/Budapest:20250711T203000
DTSTAMP:20260425T061322
CREATED:20250527T065816Z
LAST-MODIFIED:20250610T083045Z
UID:55255-1752265800-1752265800@obuda.hu
SUMMARY:Velünk véget ér
DESCRIPTION:A Velünk véget ér nem csupán egy szerelmi történet; sokkal inkább egy nő küzdelme a múltjával\, a bántalmazás örökségével és azzal a döntéssel\, hogy véget vet a fájdalmas körfogásnak. A film mélyen emberi és megrendítő élményt nyújt\, amely hosszú időre a néző emlékezetébe vésődik. \nHelyszín: Pók utcai lakótelep (Vitorla utca) \nEsőnap: 2025. július 17.\, csütörtök
URL:https://obuda.hu/esemeny/velunk-veget-er/
ATTACH;FMTTYPE=image/png:https://obuda.hu/wp-content/uploads/2025/05/admin-ajax-14.png
END:VEVENT
END:VCALENDAR