BEGIN:VCALENDAR
VERSION:2.0
PRODID:-//Obuda.hu - ECPv6.11.2//NONSGML v1.0//EN
CALSCALE:GREGORIAN
METHOD:PUBLISH
X-WR-CALNAME:Obuda.hu
X-ORIGINAL-URL:https://obuda.hu
X-WR-CALDESC:Events for Obuda.hu
REFRESH-INTERVAL;VALUE=DURATION:PT1H
X-Robots-Tag:noindex
X-PUBLISHED-TTL:PT1H
BEGIN:VTIMEZONE
TZID:Europe/Budapest
BEGIN:DAYLIGHT
TZOFFSETFROM:+0100
TZOFFSETTO:+0200
TZNAME:CEST
DTSTART:20260329T010000
END:DAYLIGHT
BEGIN:STANDARD
TZOFFSETFROM:+0200
TZOFFSETTO:+0100
TZNAME:CET
DTSTART:20261025T010000
END:STANDARD
END:VTIMEZONE
BEGIN:VEVENT
DTSTART;TZID=Europe/Budapest:20260324T160000
DTEND;TZID=Europe/Budapest:20260324T170000
DTSTAMP:20260426T033741
CREATED:20260218T092420Z
LAST-MODIFIED:20260321T050027Z
UID:65197-1774368000-1774371600@obuda.hu
SUMMARY:Zenebarátok Klubja - Hangszervarázs
DESCRIPTION:J.S. Bach: Partita No.2 (sonfonia)\nD. Scarlatti: Sonata in f (k.474)\nFrank Angelis: Chiquilin de Bachin\nRudolf Würthner: La campanella\nElőadja: Patarcsits Bálint \nSergey Rachmaninov: Barcarolla\nJ.S. Bach: c-moll prelúdium és fúga BWV 871\nAnatoliy Biloschizki: Konzert Trytichon\nElőadja: Nagy Réka \nMichel Legrand: Les Parapluies de Cherbourg\nGrigoras Dinicu: Hora Martisorului\nGoján Szabolcs: Nem feledett…\nRichard Galliano: Tango pour Claude\nElőadja: Patarcsits Bálint \nNagy Réka és Patarcsits Bálint a Weiner Leó Zeneművészeti Szakgimnázium klasszikus harmonika tanszakának végzős hallgatói. \nTanáruk: Szergej Krickij művésztanár. Az elmúlt több mint 10 évben országos zenei versenyek győztesei\, nemzetközi versenyek dobogós helyezettjei voltak több alkalommal. \nFelléptek a Kossuth rádióban\, kétszer szerepeltek szólistaként a Budapesti Vonósokkal. \nA zenét választották hívatásuknak\, céljuk\, hogy a harmonika Magyarországon is elfoglalja méltó helyét a komoly- és minőségi szórakoztató zene világában. \n  \n \n„Sose szeretnék olyan klubhoz tartozni\, amelyik elfogadna engem tagnak.”\nÍgy hangzik az egyik legtöbbet idézett kiszólás Woody Allentől. Közismert tény a rendezőről\, hogy rajong a zenéért és maga is játszik hangszeren. A mi klubunkhoz bizonyára szívesen csatlakozna. \nNagyon régi klub a miénk\, az alapító\, Márczis Gyula után Pánti Anna operaénekesnő vette át a vezetését 2010-ben. Ha rajong a komolyzenéért\, csatlakozzon hozzánk és kapcsolódjon ki a délutáni koncerteken. Az előadók a Zeneakadémia hallgatói és konzervatóriumi növendékek\, valamint olyan hangszeres művészek és operaénekesek\, akik szívesen jönnek hozzánk vendégségbe Pánti Anna hívására. \nSzeretettel várjuk! \nAdja tovább: az éves klubigazolvány ára mindössze 6000 forint.\nJelentkezés: az informacio@obudaitarsaskor.hu
URL:https://obuda.hu/esemeny/zenebaratok-klubja-hangszervarazs-3/
LOCATION:Óbudai Társaskör\, Kiskorona utca 7.\, Budapest\, 1036\, Magyarország
ATTACH;FMTTYPE=image/webp:https://obuda.hu/wp-content/uploads/2025/06/zenebaratok-zold-jpg.webp
END:VEVENT
END:VCALENDAR